BEGIN:VCALENDAR
VERSION:2.0
PRODID:-//Cooma Ex-Services Club - ECPv6.15.16.1//NONSGML v1.0//EN
CALSCALE:GREGORIAN
METHOD:PUBLISH
X-ORIGINAL-URL:https://www.coomaexservices.com.au
X-WR-CALDESC:Events for Cooma Ex-Services Club
REFRESH-INTERVAL;VALUE=DURATION:PT1H
X-Robots-Tag:noindex
X-PUBLISHED-TTL:PT1H
BEGIN:VTIMEZONE
TZID:Australia/Sydney
BEGIN:STANDARD
TZOFFSETFROM:+1100
TZOFFSETTO:+1000
TZNAME:AEST
DTSTART:20250405T160000
END:STANDARD
BEGIN:DAYLIGHT
TZOFFSETFROM:+1000
TZOFFSETTO:+1100
TZNAME:AEDT
DTSTART:20251004T160000
END:DAYLIGHT
BEGIN:STANDARD
TZOFFSETFROM:+1100
TZOFFSETTO:+1000
TZNAME:AEST
DTSTART:20260404T160000
END:STANDARD
BEGIN:DAYLIGHT
TZOFFSETFROM:+1000
TZOFFSETTO:+1100
TZNAME:AEDT
DTSTART:20261003T160000
END:DAYLIGHT
BEGIN:STANDARD
TZOFFSETFROM:+1100
TZOFFSETTO:+1000
TZNAME:AEST
DTSTART:20270403T160000
END:STANDARD
BEGIN:DAYLIGHT
TZOFFSETFROM:+1000
TZOFFSETTO:+1100
TZNAME:AEDT
DTSTART:20271002T160000
END:DAYLIGHT
END:VTIMEZONE
BEGIN:VEVENT
DTSTART;TZID=Australia/Sydney:20260424T173000
DTEND;TZID=Australia/Sydney:20260424T193000
DTSTAMP:20260423T193515
CREATED:20260303T004417Z
LAST-MODIFIED:20260303T004417Z
UID:2161-1777051800-1777059000@www.coomaexservices.com.au
SUMMARY:Friday Raffles!
DESCRIPTION:Join us every Friday for Friday Raffles! There’s SMTL Cooma Gift Cards to be won\, 100 Club and Members Badge Draw! Tickets go on sale at the bar from 5:30pm & are drawn from 6:30pm!
URL:https://www.coomaexservices.com.au/event/friday-raffles-2/2026-04-24/
END:VEVENT
BEGIN:VEVENT
DTSTART;TZID=Australia/Sydney:20260501T173000
DTEND;TZID=Australia/Sydney:20260501T193000
DTSTAMP:20260423T193515
CREATED:20260303T004417Z
LAST-MODIFIED:20260303T004417Z
UID:2162-1777656600-1777663800@www.coomaexservices.com.au
SUMMARY:Friday Raffles!
DESCRIPTION:Join us every Friday for Friday Raffles! There’s SMTL Cooma Gift Cards to be won\, 100 Club and Members Badge Draw! Tickets go on sale at the bar from 5:30pm & are drawn from 6:30pm!
URL:https://www.coomaexservices.com.au/event/friday-raffles-2/2026-05-01/
END:VEVENT
BEGIN:VEVENT
DTSTART;TZID=Australia/Sydney:20260508T173000
DTEND;TZID=Australia/Sydney:20260508T193000
DTSTAMP:20260423T193515
CREATED:20260303T004417Z
LAST-MODIFIED:20260303T004417Z
UID:2184-1778261400-1778268600@www.coomaexservices.com.au
SUMMARY:Friday Raffles!
DESCRIPTION:Join us every Friday for Friday Raffles! There’s SMTL Cooma Gift Cards to be won\, 100 Club and Members Badge Draw! Tickets go on sale at the bar from 5:30pm & are drawn from 6:30pm!
URL:https://www.coomaexservices.com.au/event/friday-raffles-2/2026-05-08/
END:VEVENT
BEGIN:VEVENT
DTSTART;TZID=Australia/Sydney:20260515T173000
DTEND;TZID=Australia/Sydney:20260515T193000
DTSTAMP:20260423T193515
CREATED:20260303T004417Z
LAST-MODIFIED:20260303T004417Z
UID:2191-1778866200-1778873400@www.coomaexservices.com.au
SUMMARY:Friday Raffles!
DESCRIPTION:Join us every Friday for Friday Raffles! There’s SMTL Cooma Gift Cards to be won\, 100 Club and Members Badge Draw! Tickets go on sale at the bar from 5:30pm & are drawn from 6:30pm!
URL:https://www.coomaexservices.com.au/event/friday-raffles-2/2026-05-15/
END:VEVENT
BEGIN:VEVENT
DTSTART;TZID=Australia/Sydney:20260522T173000
DTEND;TZID=Australia/Sydney:20260522T193000
DTSTAMP:20260423T193515
CREATED:20260303T004417Z
LAST-MODIFIED:20260303T004417Z
UID:2199-1779471000-1779478200@www.coomaexservices.com.au
SUMMARY:Friday Raffles!
DESCRIPTION:Join us every Friday for Friday Raffles! There’s SMTL Cooma Gift Cards to be won\, 100 Club and Members Badge Draw! Tickets go on sale at the bar from 5:30pm & are drawn from 6:30pm!
URL:https://www.coomaexservices.com.au/event/friday-raffles-2/2026-05-22/
END:VEVENT
BEGIN:VEVENT
DTSTART;TZID=Australia/Sydney:20260529T173000
DTEND;TZID=Australia/Sydney:20260529T193000
DTSTAMP:20260423T193515
CREATED:20260303T004417Z
LAST-MODIFIED:20260303T004417Z
UID:2203-1780075800-1780083000@www.coomaexservices.com.au
SUMMARY:Friday Raffles!
DESCRIPTION:Join us every Friday for Friday Raffles! There’s SMTL Cooma Gift Cards to be won\, 100 Club and Members Badge Draw! Tickets go on sale at the bar from 5:30pm & are drawn from 6:30pm!
URL:https://www.coomaexservices.com.au/event/friday-raffles-2/2026-05-29/
END:VEVENT
BEGIN:VEVENT
DTSTART;TZID=Australia/Sydney:20260605T173000
DTEND;TZID=Australia/Sydney:20260605T193000
DTSTAMP:20260423T193515
CREATED:20260303T004417Z
LAST-MODIFIED:20260303T004417Z
UID:2209-1780680600-1780687800@www.coomaexservices.com.au
SUMMARY:Friday Raffles!
DESCRIPTION:Join us every Friday for Friday Raffles! There’s SMTL Cooma Gift Cards to be won\, 100 Club and Members Badge Draw! Tickets go on sale at the bar from 5:30pm & are drawn from 6:30pm!
URL:https://www.coomaexservices.com.au/event/friday-raffles-2/2026-06-05/
END:VEVENT
BEGIN:VEVENT
DTSTART;TZID=Australia/Sydney:20260612T173000
DTEND;TZID=Australia/Sydney:20260612T193000
DTSTAMP:20260423T193515
CREATED:20260303T004417Z
LAST-MODIFIED:20260303T004417Z
UID:2214-1781285400-1781292600@www.coomaexservices.com.au
SUMMARY:Friday Raffles!
DESCRIPTION:Join us every Friday for Friday Raffles! There’s SMTL Cooma Gift Cards to be won\, 100 Club and Members Badge Draw! Tickets go on sale at the bar from 5:30pm & are drawn from 6:30pm!
URL:https://www.coomaexservices.com.au/event/friday-raffles-2/2026-06-12/
END:VEVENT
BEGIN:VEVENT
DTSTART;TZID=Australia/Sydney:20260619T173000
DTEND;TZID=Australia/Sydney:20260619T193000
DTSTAMP:20260423T193515
CREATED:20260303T004417Z
LAST-MODIFIED:20260303T004417Z
UID:2226-1781890200-1781897400@www.coomaexservices.com.au
SUMMARY:Friday Raffles!
DESCRIPTION:Join us every Friday for Friday Raffles! There’s SMTL Cooma Gift Cards to be won\, 100 Club and Members Badge Draw! Tickets go on sale at the bar from 5:30pm & are drawn from 6:30pm!
URL:https://www.coomaexservices.com.au/event/friday-raffles-2/2026-06-19/
END:VEVENT
END:VCALENDAR